
BEGIN:VCALENDAR
VERSION:2.0
PRODID:-//hacksw/handcal//NONSGML v1.0//EN
BEGIN:VEVENT
DTSTAMP:20260425T150000Z
DTSTART:20260425T150000Z
DTEND:20260425T180000Z
SUMMARY:Brick Convention
DESCRIPTION:BRICK CONVENTION is the Greatest LEGO® Fan Event on Earth and brings all of the creative hands-on, minds-on fun of LEGO® building and experiences together in one activity- and entertainment-packed family event for children of all ages and builders of all skills and interests.A portion of the proceeds from each Brick Convention is donated to Creations for Charity. Creations for Charity is an all-volunteer nonprofit organization that buy new LEGO sets for underprivileged children around the world during the holidays.​​Brick Convention is a fan convention not administered or organized, by the LEGO Group.
END:VEVENT
END:VCALENDAR